BEGIN:VCALENDAR
VERSION:2.0
PRODID:-//SAALT - ECPv5.1.0//NONSGML v1.0//EN
CALSCALE:GREGORIAN
METHOD:PUBLISH
X-WR-CALNAME:SAALT
X-ORIGINAL-URL:https://saalt.org
X-WR-CALDESC:Events for SAALT
BEGIN:VTIMEZONE
TZID:America/New_York
BEGIN:DAYLIGHT
TZOFFSETFROM:-0500
TZOFFSETTO:-0400
TZNAME:EDT
DTSTART:20130310T070000
END:DAYLIGHT
BEGIN:STANDARD
TZOFFSETFROM:-0400
TZOFFSETTO:-0500
TZNAME:EST
DTSTART:20131103T060000
END:STANDARD
END:VTIMEZONE
BEGIN:VEVENT
DTSTART;TZID=America/New_York:20130827T190000
DTEND;TZID=America/New_York:20130827T210000
DTSTAMP:20210615T085739
CREATED:20130813T223517Z
LAST-MODIFIED:20130813T223857Z
UID:4732-1377630000-1377637200@saalt.org
SUMMARY:Immigration Town Hall on August 27th in Silver Spring\, MD 
DESCRIPTION:Please join us for a town hall on immi­gra­tion reform in the DMV area. Dur­ing this dis­cus­sion\, we hope to address the impact of immi­gra­tion reform on South Asian Amer­i­cans and how we can raise our voic­es and act on the issue. The town hall will fea­ture com­mu­ni­ty mem­bers shar­ing their immi­gra­tion sto­ries\, and immi­gra­tion advo­cates shar­ing knowl­edge and answer­ing ques­tions on the cur­rent pro­pos­als for changes to our immi­gra­tion sys­tem. \nLight refresh­ments will be served. \nCo-spon­sors: Amer­i­can Nepali Women’s Asso­ci­a­tion (ANWA)\, Coun­cil on Amer­i­can Islam­ic Rela­tions-Mary­land (CAIR-MD)\, Asian Pacif­ic Amer­i­can Legal Resource Cen­ter (APALRC)\, CASA de Mary­land\, Mus­lim Pub­lic Affairs Coun­cil (MPAC)\, Asian Pacif­ic Amer­i­can Labor Alliance- DC Chap­ter (APALA-DC)\, South Asian Bar Asso­ci­a­tion (SABA-DC) \nRSVP here: http://bit.ly/MDImmTownHall \n  \n
URL:https://saalt.org/event/immigration-town-hall-on-august-27th-in-silver-spring-md/
LOCATION:Silver Spring Civic Center\, 1 Veterans Place     \, Silver Spring \, MD\, 20910\, United States
END:VEVENT
END:VCALENDAR