BEGIN:VCALENDAR
VERSION:2.0
PRODID:-//SAALT - ECPv5.1.0//NONSGML v1.0//EN
CALSCALE:GREGORIAN
METHOD:PUBLISH
X-WR-CALNAME:SAALT
X-ORIGINAL-URL:https://saalt.org
X-WR-CALDESC:Events for SAALT
BEGIN:VTIMEZONE
TZID:America/New_York
BEGIN:DAYLIGHT
TZOFFSETFROM:-0500
TZOFFSETTO:-0400
TZNAME:EDT
DTSTART:20130310T070000
END:DAYLIGHT
BEGIN:STANDARD
TZOFFSETFROM:-0400
TZOFFSETTO:-0500
TZNAME:EST
DTSTART:20131103T060000
END:STANDARD
END:VTIMEZONE
BEGIN:VEVENT
DTSTART;TZID=America/New_York:20130928T083000
DTEND;TZID=America/New_York:20130928T133000
DTSTAMP:20210615T085654
CREATED:20130918T182051Z
LAST-MODIFIED:20130918T183515Z
UID:5024-1380357000-1380375000@saalt.org
SUMMARY:White House to Hillcroft: Immigraton Reform Race Relations & the South Asian Community Seminar 2013
DESCRIPTION:Join a team of experts for an inter­ac­tive dis­cus­sion on immi­gra­tion reform\, race\, and its impact on the South Asian com­mu­ni­ty. \n
URL:https://saalt.org/event/white-house-to-hillcroft-immigraton-reform-race-relations-the-south-asian-community-seminar-2013/
LOCATION:Hilton Southwest\, 6780 Southwest Freeway\, Houston\, TX\, 77074\, United States
CATEGORIES:Immigration
ATTACH;FMTTYPE=image/jpeg:https://saalt.org/wp-content/uploads/2013/09/Houston-flyer.jpg
ORGANIZER;CN="Daya":MAILTO:contact@dayahouston.org
END:VEVENT
END:VCALENDAR